BEGIN:VCALENDAR
VERSION:2.0
PRODID:-//eventon.com NONSGML v1.0//EN
CALSCALE:GREGORIAN
METHOD:PUBLISH
BEGIN:VEVENT
UID:69e4cc5a4a58d
DTSTAMP:20260419T123642Z
DTSTART:20260530T070000Z
DTEND:20260530T123000Z
LOCATION:
SUMMARY:Club Presentation Night
DESCRIPTION:Tickets here! Tickets available from from Tuesday 21 April @ 5p
 m. Be sure to book early!\nhttps://bys.asn.au/events/club-presentation-nigh
 t/
URL:https://bys.asn.au/events/club-presentation-night/
END:VEVENT
END:VCALENDAR