BEGIN:VCALENDAR
VERSION:2.0
PRODID:-//eventon.com NONSGML v1.0//EN
CALSCALE:GREGORIAN
METHOD:PUBLISH
BEGIN:VEVENT
UID:69e4cbd53fcfe
DTSTAMP:20260419T123429Z
DTSTART:20260523T000000Z
DTEND:20260523T013000Z
LOCATION:
SUMMARY:Volunteer Champagne Breakfast
DESCRIPTION:Please ensure you RSVP to let us know you&#8217;ll be joining u
 s!\nhttps://bys.asn.au/events/volunteer-champagne-breakfast/
URL:https://bys.asn.au/events/volunteer-champagne-breakfast/
END:VEVENT
END:VCALENDAR